BEGIN:VCALENDAR
VERSION:2.0
PRODID:-//pretix//pretix.eu//
BEGIN:VTIMEZONE
TZID:Europe/Berlin
BEGIN:STANDARD
DTSTART:20001029T040000
RRULE:FREQ=YEARLY;BYDAY=-1SU;BYMONTH=10
TZNAME:CET
TZOFFSETFROM:+0200
TZOFFSETTO:+0100
END:STANDARD
BEGIN:DAYLIGHT
DTSTART:20000326T030000
RRULE:FREQ=YEARLY;BYDAY=-1SU;BYMONTH=3
TZNAME:CEST
TZOFFSETFROM:+0100
TZOFFSETTO:+0200
END:DAYLIGHT
END:VTIMEZONE
BEGIN:VEVENT
UID:pretix-vulcano-Vtech3-2-0@tickets.disco-vulcano.de
DTSTART;TZID=Europe/Berlin:20251220T220000
DTEND;TZID=Europe/Berlin:20251220T230000
DESCRIPTION:Tickets: https://tickets.disco-vulcano.de/Vtech3-2/\nEinlass: 2
 0.12.2025 00:00\nVeranstalter: Discothek Vulcano
DTSTAMP:20260421T082559Z
LOCATION:Vulcanino | V³ | Arbing 26a | 94529
SUMMARY:V:tech³
END:VEVENT
END:VCALENDAR
